BEGIN:VCALENDAR
VERSION:2.0
PRODID:-//wp-events-plugin.com//7.2.3.1//EN
TZID:Europe/Berlin
X-WR-TIMEZONE:Europe/Berlin
BEGIN:VEVENT
UID:135@winestr.de
DTSTART;TZID=Europe/Berlin:20240710T183000
DTEND;TZID=Europe/Berlin:20240710T203000
DTSTAMP:20240630T163432Z
URL:https://www.winestr.de/events/wein-yoga/
SUMMARY:Wein & Yoga
DESCRIPTION:Sicherlich haben viele von euch schon mal zur Entspannung ein G
 läschen Wein getrunken oder mal eine Yoga Stunde gemacht\, um in den hekt
 ischen Alltag mal wieder etwas zur Ruhe zu bekommen.\n\nWie entspannend mu
 ss es dann erst sein\, wenn ihr diese beiden Sachen verbindet? Die Möglic
 hkeit dazu habt ihr am 10. Juli oder 24. Juli in Weilheim/Teck.&nbsp\; Bei
  einer gemütlichen Yogastunde\, angeleitet durch eine ausgebildete Yogale
 hrerin werden wir unter der Anleitung von Verena (WSET Level 3) drei ausge
 suchte Weine probieren. Die Stunde eignet sich für Yogaanfänger und -pro
 fis.&nbsp\; Details könnt ihr dem Flyer entnehmen. FAlls ihr noch Fragen 
 habt meldet euch gerne unter Wineundyoga@gmx.de.\n\nNamaste\n\nVerena\, Ti
 na &amp\; Annika
ATTACH;FMTTYPE=image/jpeg:https://www.winestr.de/wp-content/uploads/PHOTO-
 2024-06-28-08-22-25.jpg
CATEGORIES:Wein Event
END:VEVENT
BEGIN:VTIMEZONE
TZID:Europe/Berlin
X-LIC-LOCATION:Europe/Berlin
BEGIN:DAYLIGHT
DTSTART:20240331T030000
TZOFFSETFROM:+0100
TZOFFSETTO:+0200
TZNAME:CEST
END:DAYLIGHT
END:VTIMEZONE
END:VCALENDAR