BEGIN:VCALENDAR
VERSION:2.0
PRODID:-//wp-events-plugin.com//7.2.3.1//EN
TZID:Europe/Berlin
X-WR-TIMEZONE:Europe/Berlin
BEGIN:VEVENT
UID:179@winestr.de
DTSTART;TZID=Europe/Berlin:20250724T170000
DTEND;TZID=Europe/Berlin:20250724T220000
DTSTAMP:20241203T094527Z
URL:https://www.winestr.de/events/wein-tapas-summer-wine-tasting-im-weinga
 rten-3/
SUMMARY:Wein & Tapas „Summer-wine-tasting im weingarten“
DESCRIPTION:\n\nImmer donnerstags: Kleine feine Weinprobe in gemütlichem A
 mbiente. Freuen Sie sich auf ein Stelldichein mit Sommerweinen und Gaumenf
 reuden.\n\nWir begrüßen Sie bei jedem Wetter zwischen 17-22 Uhr in unser
 em mediterranen WEINGARTEN und unserer offenen Kelterhalle.&nbsp\; Tischre
 servierung unter 07151-42828 oder online\n\nGutscheine für die Tête à T
 ête 3 er Weinprobe mit Apero\, Wasser und Tapasteller (39.- Euro p.P.) gi
 bt es hier.\n\n
ATTACH;FMTTYPE=image/jpeg:https://www.winestr.de/wp-content/uploads/Tapas.
 png
CATEGORIES:Partnerweingut Event,Wein Event
LOCATION:Weingut Singer-Bader\, Albert-Moser-Straße 100\, Kernen im Remsta
 l\, 71394 \, Deutschland
X-APPLE-STRUCTURED-LOCATION;VALUE=URI;X-ADDRESS=Albert-Moser-Straße 100\, 
 Kernen im Remstal\, 71394 \, Deutschland;X-APPLE-RADIUS=100;X-TITLE=Weingu
 t Singer-Bader:geo:0,0
END:VEVENT
BEGIN:VTIMEZONE
TZID:Europe/Berlin
X-LIC-LOCATION:Europe/Berlin
BEGIN:DAYLIGHT
DTSTART:20250330T030000
TZOFFSETFROM:+0100
TZOFFSETTO:+0200
TZNAME:CEST
END:DAYLIGHT
END:VTIMEZONE
END:VCALENDAR