BEGIN:VCALENDAR
VERSION:2.0
PRODID:-//wp-events-plugin.com//7.2.3.1//EN
TZID:Europe/Berlin
X-WR-TIMEZONE:Europe/Berlin
BEGIN:VEVENT
UID:168@winestr.de
DTSTART;TZID=Europe/Berlin:20250313T180000
DTEND;TZID=Europe/Berlin:20250313T230000
DTSTAMP:20241203T093437Z
URL:https://www.winestr.de/events/wein-pinsa-6/
SUMMARY:WEIN & PINSA
DESCRIPTION:Wir freuen uns über Ihren Besuch und garantieren Ihnen eine kl
 eine- oder auch größere Aus-zeit vom Alltag. Probieren Sie sich in Ruhe 
 durch unser Sortiment oder genießen Sie ein Glas Wein. Wir backen frische
  Pinsa nach „Winzerart“. Eintritt frei.\n\nFür 39.- Euro gibt es das 
 große Weinproben Paket inklusive aller Weine und einer 1/2 Winzerpinsa od
 er einem kleinen Bioland Käseteller. Sie können aber auch einfach vorbei
 kommen und Einzelproben erhalten und einen schönen Abend verbringen. Eine
  Anmeldung ist nicht erforderlich. Wir finden ein nettes Tischchen für Si
 e!\n\nWeitere Infos und Gutscheine zu diesem Abend hier.\n\n\nWein &amp\; 
 Pinsa in gemütlichem Ambiente - immer wieder donnerstags findet unsere BE
 WEGTE WEINPROBE statt. Es steht unser gesamtes Bioland-Weinsortiment zur P
 robe bereit. Eintritt frei. Für 39.- Euro gibt es das große Weinproben P
 aket inklusive aller Weine und einer halben Winzerpinsa oder kleinem Käse
 teller. Sie können aber auch einfach vorbeikommen und Einzelproben erhalt
 en und einen schönen Abend verbringen. Eine Anmeldung ist nicht erforderl
 ich. Wir finden ein nettes Tischchen für Sie!\n\n\n\n 	Ausgezeichnete Wei
 nsüden Vinothek\n 	Bewegte Weinprobe in Korb im Remstal\n 	Winestasting m
 it Winzerpinsa und Snacks\n
ATTACH;FMTTYPE=image/jpeg:https://www.winestr.de/wp-content/uploads/Weingu
 t-Singer-Bader-Korb-Stetten-Weinkorb-Remstal-Eventfoto-Winzerpinsa.png
CATEGORIES:Partnerweingut Event,Wein Event
LOCATION:Weinkorb | Vinothek\, Rosenstrasse 1\, Korb im Remstal\, Baden-Wü
 rttemberg\, 71404\, Deutschland
X-APPLE-STRUCTURED-LOCATION;VALUE=URI;X-ADDRESS=Rosenstrasse 1\, Korb im Re
 mstal\, Baden-Württemberg\, 71404\, Deutschland;X-APPLE-RADIUS=100;X-TITL
 E=Weinkorb | Vinothek:geo:0,0
END:VEVENT
BEGIN:VTIMEZONE
TZID:Europe/Berlin
X-LIC-LOCATION:Europe/Berlin
BEGIN:STANDARD
DTSTART:20241027T020000
TZOFFSETFROM:+0200
TZOFFSETTO:+0100
TZNAME:CET
END:STANDARD
END:VTIMEZONE
END:VCALENDAR