BEGIN:VCALENDAR
VERSION:2.0
PRODID:-//wp-events-plugin.com//7.2.3.1//EN
TZID:Europe/Berlin
X-WR-TIMEZONE:Europe/Berlin
BEGIN:VEVENT
UID:138@winestr.de
DTSTART;TZID=Europe/Berlin:20240803T170000
DTEND;TZID=Europe/Berlin:20240803T210000
DTSTAMP:20240708T082922Z
URL:https://www.winestr.de/events/warm-up-weinerlebnis-am-feuerbacher-lemb
 erg/
SUMMARY:Warm-Up Weinerlebnis am Feuerbacher Lemberg
DESCRIPTION:Wir werden dieses Jahr den "Weinerlebnis Sonntag" bereits am Sa
 mstag einläuten.\nIm Garten von Fabian Rajtschan am Hattenbühl\, sowie b
 ei Familie Bachmann am Feuerbacher Höhenweg können Sie den Abend ausklin
 gen lassen. Zwischen 17:00 und 21:00 Uhr in entspannter Atmosphäre das ei
 ne oder andere Gläschen Wein genießen. Dazu reichen wir Snacks für den 
 kleinen Hunger.\n\n&nbsp\;\n\nhttps://www.google.com/maps/d/u/0/viewer?mid
 =1Kd059pa9BUxGj0sXj1BXxy7eFas&amp\;femb=1&amp\;ll=48.81683967279811%2C9.14
 0399699999984&amp\;z=15
CATEGORIES:Partnerweingut Event,Wein Event
END:VEVENT
BEGIN:VTIMEZONE
TZID:Europe/Berlin
X-LIC-LOCATION:Europe/Berlin
BEGIN:DAYLIGHT
DTSTART:20240331T030000
TZOFFSETFROM:+0100
TZOFFSETTO:+0200
TZNAME:CEST
END:DAYLIGHT
END:VTIMEZONE
END:VCALENDAR