BEGIN:VCALENDAR
VERSION:2.0
PRODID:-//wp-events-plugin.com//7.2.3.1//EN
TZID:Europe/Berlin
X-WR-TIMEZONE:Europe/Berlin
BEGIN:VEVENT
UID:137@winestr.de
DTSTART;TZID=Europe/Berlin;VALUE=DATE:20240713
DTEND;TZID=Europe/Berlin;VALUE=DATE:20240714
DTSTAMP:20240701T071531Z
URL:https://www.winestr.de/events/riesling-festival-heilbronn-2024/
SUMMARY:Riesling Festival Heilbronn 2024
DESCRIPTION:Riesling Festival Heilbronn 2024\n1. Juli 2024  Allgemein\, New
 s\, Überregional  Beitrag bearbeiten\n\nExklusive Weinverkostung\, Gala-D
 inner und Afterparty: Feiern Sie die Riesling Champion Siegerweine!\nvon V
 inum\nIn der einzigartigen Location der Sitt Weinbar im Deutschhof werden 
 die besten Rieslinge Deutschlands präsentiert und ausgezeichnet. Verkoste
 n Sie bei dieser hochkarätigen Weinprobe eine Selektion der Siegerweine d
 es «VINUM Riesling Champion 2024» von rund 30 anwesenden Weingütern. Di
 e preisgekrönten Weine werden den Gästen höchstpersönlich von den prä
 mierten Winzerinnen und Winzern vorgestellt! Seien Sie zudem live bei der 
 Preisverleihung mit dabei\, wenn Ihr Lieblingswein ausgezeichnet wird.\n\n
 Genießen Sie über den Dächern Heilbronn die Weisse Rieslingnacht 2024.\
 nEin exklusives 4 Gänge Menü kreiert von Küchenteam des Parkhotel Heilb
 ronn mit korrespondierenden Weinen der prämierten Weingüter aus dem «Ri
 esling Champion2024» erwartet Sie im 10. Stock des Parkhotels.\n\nDen Abe
 nd kann man bei DJ-Musik und Weingüter-Weinbars-Theken in lockerer Atmosp
 häre ausklingen lassen und dabei das Tanzbein schwingen.\n\n\n\nPublikums
 verkostung\n\n\n\nZeit: 13.00 Uhr bis 18.00 Uhr\n\nProgramm:\n\n 	Publikum
 sverkostung: 13:00 bis 18:00 Uhr\n 	Preisverleihung: 14.30 bis 15.00 Uhr&n
 bsp\;\n\nPreis:\n\n 	Vorverkauf: Euro 25\,-&nbsp\;\n 	Tageskasse: Euro 30\
 ,-\n\nAnmelden: Jetzt Tickets sichern&nbsp\;\n\n\n\n«Weisse Riesling-Nach
 t 2023» Gourmet-Dinner\n\n\n\nZeit: ab 18.30 Uhr\n\nProgramm:\n\n 	Empfan
 g ab 18.30 Uhr\n 	4-Gang-Menu (inkl. Weine\, Wasser\, Kaffee) und vieles m
 ehr.\n\nPreis:\n\n 	Euro 139\,-&nbsp\;\n\nAnmelden: Jetzt Tickets sichern\
 n\n\n\nAfter Party\n\n\n\nZeit: 19.00 bis 24.00 Uhr\n\n
ATTACH;FMTTYPE=image/jpeg:https://www.winestr.de/wp-content/uploads/csm_20
 24_Riesling_Champion_1140x500px_867e8547f6.jpg
CATEGORIES:Partner Event
END:VEVENT
BEGIN:VTIMEZONE
TZID:Europe/Berlin
X-LIC-LOCATION:Europe/Berlin
BEGIN:DAYLIGHT
DTSTART:20240331T030000
TZOFFSETFROM:+0100
TZOFFSETTO:+0200
TZNAME:CEST
END:DAYLIGHT
END:VTIMEZONE
END:VCALENDAR