BEGIN:VCALENDAR
VERSION:2.0
PRODID:-//wp-events-plugin.com//7.2.3.1//EN
TZID:Europe/Berlin
X-WR-TIMEZONE:Europe/Berlin
BEGIN:VEVENT
UID:251@winestr.de
DTSTART;TZID=Europe/Berlin:20250712T133000
DTEND;TZID=Europe/Berlin:20250712T230000
DTSTAMP:20250529T130116Z
URL:https://www.winestr.de/events/riesling-festival-heilbronn-2024-2/
SUMMARY:Riesling Festival Heilbronn 2024
DESCRIPTION:Riesling Festival Heilbronn 2025\n\nExklusive Weinverkostung\, 
 Gala-Dinner und Afterparty\nvon Vinum\nErleben Sie die Spitzenweine Deutsc
 hlands im historischen Schießhaus Heilbronn!&nbsp\;Bei der exklusiven Pub
 likumsverkostung haben Sie die einzigartige Gelegenheit\, eine Auswahl der
  Siegerweine des «VINUM Riesling Champion 2025» direkt von den Winzer:in
 nen hochpersönlich zu verkosten.\n\nDen festlichen Höhepunkt des Abends 
 bildet ein exklusives 4-Gänge-Galadinner im 10. Stock des Parkhotels Heil
 bronn. Das Küchenteam verwöhnt Sie mit exquisiten kulinarischen Kreation
 en\, perfekt abgestimmt auf die ausgezeichneten Rieslinge der prämierten 
 Weingüter. Genießen Sie dieses unvergessliche Erlebnis über den Dächer
 n Heilbronns.\nPublikumsverkostung\nZeit: 13.30 Uhr bis 18.00 Uhr\nOrt: Sc
 hiesshaus\, Frankfurter Str. 65\, 74072 Heilbronn\nEintrittspreise:\n• V
 orverkauf: 20 Euro\n• VINUM-Abonnent:innen: 10 Euro\n• Fachbesucher:in
 nen &amp\; Studierende/Auszubildende: 10 Euro\n• Presse (mit Akkreditier
 ung): kostenlos\n• Tageskasse: 25 Euro\nAbendprogramm: Die «Weisse Ries
 ling-Nacht 2025»\nDen festlichen Höhepunkt bildet das exklusive Galadinn
 er im 10. Stock des Parkhotels Heilbronn. Geniessen Sie ein sorgfältig ko
 mponiertes 4-Gänge-Menü\, abgestimmt auf die Siegerweine des Wettbewerbs
 \, mit Blick über die Dächer Heilbronns.\n\nZeit: ab 19.30 Uhr\nOrt: Par
 khotel Heilbronn\, Gartenstr. 1\, 74072 Heilbronn\nMenü: 4 Gänge inkl. b
 egleitender Weine\, Wasser und Kaffee\nPreis: 139 Euro\n\nJetzt hier Ticke
 ts sichern und einen unvergesslichen Tag rund um den Riesling erleben: htt
 ps://www.vinum.eu/de/events/riesling-festival-2025/.\n\nWir freuen uns auf
  Sie!\nIhr VINUM-Team\n\nDisclaimer: Dies ist ein Hinweis auf ein Angebot 
 des Kooperationspartners an Leser von WineSTR und Mitglieder des WineSTR C
 lub. Der Kaufvorgang findet nicht bei WineSTR statt\, sondern zwischen dem
  Kooperations-Partner und dem WineStR CLUB Mitglied. Insbesondere ist die 
 Gültigkeit des Angebots von der Verfügbarkeit der angebotenen Artikel vo
 m Kooperationspartner abhängig.\n\n\n\n\n\n\n\n&nbsp\;
ATTACH;FMTTYPE=image/jpeg:https://www.winestr.de/wp-content/uploads/2025_R
 C_Anzeige_Heilbronn_1140x500_DE.jpg
CATEGORIES:Partner Event,Wein-Tasting,Wine&amp;Dine
END:VEVENT
BEGIN:VTIMEZONE
TZID:Europe/Berlin
X-LIC-LOCATION:Europe/Berlin
BEGIN:DAYLIGHT
DTSTART:20250330T030000
TZOFFSETFROM:+0100
TZOFFSETTO:+0200
TZNAME:CEST
END:DAYLIGHT
END:VTIMEZONE
END:VCALENDAR