BEGIN:VCALENDAR
VERSION:2.0
PRODID:-//wp-events-plugin.com//7.2.3.1//EN
TZID:Europe/Berlin
X-WR-TIMEZONE:Europe/Berlin
BEGIN:VEVENT
UID:143@winestr.de
DTSTART;TZID=Europe/Berlin:20241031T183000
DTEND;TZID=Europe/Berlin:20241031T213000
DTSTAMP:20240923T160656Z
URL:https://www.winestr.de/events/nine-to-wine-das-afterwork-winetasting-a
 n-halloween/
SUMMARY:Nine to Wine – Das Afterwork-Winetasting an Halloween.
DESCRIPTION:Die Vioneers Afterwork-Winetastings! \nUnter dem Titel "Nine to
  Wine" laden wir Dich herzlich ein zum monatlichen Weinevent nach Feierabe
 nd im Winespot Backnang (Blumenstr. 22/1\, Backnang).\nGenieße die 6 Wein
 e des Monats in entspannter Weinbar-Atmosphäre. Inklusive sind 6 Weine\, 
 Wasser\, kleine Snacks und viel Unterhaltung. Am 31. Oktober geht es um 18
 :30 los.\n\nTickets auf vioneers.com für 35\,-€\nTickets an der Abendka
 sse für 40\,-€\n\nWir freuen uns auf Dich!
ATTACH;FMTTYPE=image/jpeg:https://www.winestr.de/wp-content/uploads/Screen
 shot-2023-08-01-at-20-07-42-Unser-Winespot-in-Backnang.png
CATEGORIES:Partner Event
LOCATION:Winespot Backnang\, Blumenstraße 22\, Backnang\, Deutschland
X-APPLE-STRUCTURED-LOCATION;VALUE=URI;X-ADDRESS=Blumenstraße 22\, Backnang
 \, Deutschland;X-APPLE-RADIUS=100;X-TITLE=Winespot Backnang:geo:0,0
END:VEVENT
BEGIN:VTIMEZONE
TZID:Europe/Berlin
X-LIC-LOCATION:Europe/Berlin
BEGIN:STANDARD
DTSTART:20241027T020000
TZOFFSETFROM:+0200
TZOFFSETTO:+0100
TZNAME:CET
END:STANDARD
END:VTIMEZONE
END:VCALENDAR