BEGIN:VCALENDAR
VERSION:2.0
PRODID:-//wp-events-plugin.com//7.2.3.1//EN
TZID:Europe/Berlin
X-WR-TIMEZONE:Europe/Berlin
BEGIN:VEVENT
UID:144@winestr.de
DTSTART;TZID=Europe/Berlin:20241003T110000
DTEND;TZID=Europe/Berlin:20241003T170000
DTSTAMP:20240923T161847Z
URL:https://www.winestr.de/events/musik-auf-der-hoehe/
SUMMARY:„Musik auf der Höhe“
DESCRIPTION:Weinstand mit Weinen aller Großheppacher Wengerter bei der Ver
 anstaltung „Musik auf der Höhe“ der Musikvereinigung Großheppach auf
  der Aussichtsplattform „Luitenbächer Höhe“\n\nDonnerstagtag\, 3. Ok
 tober 11-17 Uhr\n\nAusgeschenkt werden Weine der Großheppacher Weingüter
  Klopfer\, Weingut im Hof\nArmin Zimmerle\, Weingut Gold\, Weingut Jochen 
 Mayer\, Weingut Bernhard Ellwanger\nsowie der Großheppacher Weinfreunde/R
 emstalkellerei.\n\nMusikalisch unterhält die Musikverein Marbach von 12-1
 4 Uhr\, die Großheppacher Jugendkapelle spielt von 14.15-14.45 und von 15
 -17 Uhr die Musikvereinigung Großheppach.\n\nKulinarisch stehen Wurstsala
 t\, Schweinehals und Kartoffelsalat\, Frischkäsebrot sowie Flachswickel a
 uf dem Programm.
ATTACH;FMTTYPE=image/jpeg:https://www.winestr.de/wp-content/uploads/Logo-H
 olzwand-mit-Kelter-1.jpg
CATEGORIES:Partner Event,Wein Event
END:VEVENT
BEGIN:VTIMEZONE
TZID:Europe/Berlin
X-LIC-LOCATION:Europe/Berlin
BEGIN:DAYLIGHT
DTSTART:20240331T030000
TZOFFSETFROM:+0100
TZOFFSETTO:+0200
TZNAME:CEST
END:DAYLIGHT
END:VTIMEZONE
END:VCALENDAR