BEGIN:VCALENDAR
VERSION:2.0
PRODID:-//wp-events-plugin.com//7.2.3.1//EN
TZID:Europe/Berlin
X-WR-TIMEZONE:Europe/Berlin
BEGIN:VEVENT
UID:214@winestr.de
DTSTART;TZID=Europe/Berlin:20250404T190000
DTEND;TZID=Europe/Berlin:20250404T230000
DTSTAMP:20241226T092643Z
URL:https://www.winestr.de/events/la-degustazione-in-italiano-1-daniels-we
 ine/
SUMMARY:La Degustazione In Italiano 1 (Daniel’s Weine)
DESCRIPTION:Fr 4. April\, 19.00 Uhr\, 79 EUR inkl. Wein\, Wasser\, Espresso
  + Essen\nAnmeldung: Daniel’s Weine
ATTACH;FMTTYPE=image/jpeg:https://www.winestr.de/wp-content/uploads/202412
 26_101753.jpg
CATEGORIES:Wein Event,Wine&amp;Dine
END:VEVENT
BEGIN:VTIMEZONE
TZID:Europe/Berlin
X-LIC-LOCATION:Europe/Berlin
BEGIN:DAYLIGHT
DTSTART:20250330T030000
TZOFFSETFROM:+0100
TZOFFSETTO:+0200
TZNAME:CEST
END:DAYLIGHT
END:VTIMEZONE
END:VCALENDAR