BEGIN:VCALENDAR
VERSION:2.0
PRODID:-//wp-events-plugin.com//7.2.3.1//EN
TZID:Europe/Berlin
X-WR-TIMEZONE:Europe/Berlin
BEGIN:VEVENT
UID:173@winestr.de
DTSTART;TZID=Europe/Berlin:20250607T140000
DTEND;TZID=Europe/Berlin:20250607T210000
DTSTAMP:20241122T165340Z
URL:https://www.winestr.de/events/kulinarischer-weinweg/
SUMMARY:Kulinarischer Weinweg
DESCRIPTION:\n\nAn Pfingsten schenken wir an der Stettener Y-burg unsere We
 ine aus und freuen uns auf Ihren Besuch!\n\nSamstag\, 7.6. ab 14 Uhr\n\nSo
 nntag 8.6. und Montag 9.6. ab 11 Uhr.\n\nWeitere Infos hier www.weinweg.de
 \n\n
ATTACH;FMTTYPE=image/jpeg:https://www.winestr.de/wp-content/uploads/Barbar
 a_Singer_Gewoelbekeller.jpg
CATEGORIES:Partnerweingut Event,Wein Event
LOCATION:Weinkorb | Vinothek\, Rosenstrasse 1\, Korb im Remstal\, Baden-Wü
 rttemberg\, 71404\, Deutschland
X-APPLE-STRUCTURED-LOCATION;VALUE=URI;X-ADDRESS=Rosenstrasse 1\, Korb im Re
 mstal\, Baden-Württemberg\, 71404\, Deutschland;X-APPLE-RADIUS=100;X-TITL
 E=Weinkorb | Vinothek:geo:0,0
END:VEVENT
BEGIN:VTIMEZONE
TZID:Europe/Berlin
X-LIC-LOCATION:Europe/Berlin
BEGIN:DAYLIGHT
DTSTART:20250330T030000
TZOFFSETFROM:+0100
TZOFFSETTO:+0200
TZNAME:CEST
END:DAYLIGHT
END:VTIMEZONE
END:VCALENDAR