BEGIN:VCALENDAR
VERSION:2.0
PRODID:-//wp-events-plugin.com//7.2.3.1//EN
TZID:Europe/Berlin
X-WR-TIMEZONE:Europe/Berlin
BEGIN:VEVENT
UID:191@winestr.de
DTSTART;TZID=Europe/Berlin:20250412T183000
DTEND;TZID=Europe/Berlin:20250412T233000
DTSTAMP:20241211T154402Z
URL:https://www.winestr.de/events/kulinarische-jubilaeumsweinprobe-im-ochs
 en-in-stetten/
SUMMARY:Kulinarische JUBILÄUMSWEINPROBE im Ochsen in Stetten
DESCRIPTION:mit Top-Sommelier Evangelos Pattas und Sven Ellwanger\n\n50 Jah
 re Weingut Bernhard Ellwanger – das will gefeiert werden!\n\nSamstag\, 1
 2. April 2025\, 18.30 Uhr\n\nNur nach Voranmeldung: Tel: +49 (0) 7151 9436
 0\, post@ochsen-kernen.de\n\nRestaurant Ochsen\, Kirchstraße 15\, 71394 K
 ernen-Stetten\n\n139 Euro p.P. für 5-Gänge-Menü\, korrespondierende Wei
 ne\, Wasser &amp\; Espresso\n\n&nbsp\;\n\n&nbsp\;\n\n[caption id="attachme
 nt_2100" align="alignnone" width="300"] © Weingut Bernhard Ellwanger GbR[
 /caption]\n\n&nbsp\;
ATTACH;FMTTYPE=image/jpeg:https://www.winestr.de/wp-content/uploads/Logo-H
 olzwand-mit-Kelter.jpg
CATEGORIES:Partnerweingut Event,Wein Event,Wine&amp;Dine
END:VEVENT
BEGIN:VTIMEZONE
TZID:Europe/Berlin
X-LIC-LOCATION:Europe/Berlin
BEGIN:DAYLIGHT
DTSTART:20250330T030000
TZOFFSETFROM:+0100
TZOFFSETTO:+0200
TZNAME:CEST
END:DAYLIGHT
END:VTIMEZONE
END:VCALENDAR