BEGIN:VCALENDAR
VERSION:2.0
PRODID:-//wp-events-plugin.com//7.2.3.1//EN
TZID:Europe/Berlin
X-WR-TIMEZONE:Europe/Berlin
BEGIN:VEVENT
UID:109@winestr.de
DTSTART;TZID=Europe/Berlin:20240929T120000
DTEND;TZID=Europe/Berlin:20240929T180000
DTSTAMP:20240225T175506Z
URL:https://www.winestr.de/events/herbstzeit-im-weingut-idler/
SUMMARY:Herbstzeit im Weingut Idler
DESCRIPTION:\n\nGenießen Sie unsere Weine und Neuen Wein zu herzhaften Kö
 stlichkeiten im Hof des Weinguts und in unserer Vinothek.\n\n12.00 – 18.
 00 Uhr auf dem Weingut.\n\n
ATTACH;FMTTYPE=image/jpeg:https://www.winestr.de/wp-content/uploads/DSC461
 6-1.jpg
CATEGORIES:Partnerweingut Event
END:VEVENT
BEGIN:VTIMEZONE
TZID:Europe/Berlin
X-LIC-LOCATION:Europe/Berlin
BEGIN:DAYLIGHT
DTSTART:20240331T030000
TZOFFSETFROM:+0100
TZOFFSETTO:+0200
TZNAME:CEST
END:DAYLIGHT
END:VTIMEZONE
END:VCALENDAR