BEGIN:VCALENDAR
VERSION:2.0
PRODID:-//wp-events-plugin.com//7.2.3.1//EN
TZID:Europe/Berlin
X-WR-TIMEZONE:Europe/Berlin
BEGIN:VEVENT
UID:258@winestr.de
DTSTART;TZID=Europe/Berlin:20251017T110000
DTEND;TZID=Europe/Berlin:20251130T210000
DTSTAMP:20251012T152547Z
URL:https://www.winestr.de/events/herbstbesen-vom-17-oktober-bis-30-novemb
 er-2025-im-sonnenbesen-des-weingut-zaiss/
SUMMARY:Herbstbesen vom 17. Oktober bis 30. November 2025 im Sonnenbesen de
 s Weingut Zaiß
DESCRIPTION:Hier trifft man nicht nur auf&nbsp\;alte Bekannte&nbsp\;und&nbs
 p\;Freunde\, hier genießt man selbst erzeugte Weine&nbsp\;und leckere&nbs
 p\;schwäbische Besengerichte. Historische Mauersteine&nbsp\;aus dem alten
  Weinkeller des abgetragenen Vorgängerbaus in einem wunderschön gestalte
 ten Torbogen und in harmonisch geformte Wandsteinelemente sorgen für ein 
 angenehmes Wohlfühl-Ambiente. Gerlinde und Konrad Zaiß begrüßen Ihre G
 äste als leidenschaftliche Gastgeber in schwäbischer Perfektion.\n\nTäg
 lich ab 11:00 Uhr | Montags Ruhetag\n\nIm Sonnen-Besen sind grundsätzlich
  KEINE Sitzplatz Reservierungen möglich.\n\nBei größeren Gruppen (ab 6 
 Personen) notieren wir uns die Anfrage aber gerne und versuchen euch entsp
 rechend einzuplanen.\n\nEine Sitzplatzgarantie an einem bestimmten Tisch g
 ibt es jedoch nicht. Es kann ggf. zu kurzen Wartezeiten kommen.\n\nBei wei
 teren Fragen ruft uns bitte an.\n\nTelefon: 0711 – 32 42 82\n\nAdresse: 
 Uhlbacher Straße 23 | 70329 Stuttgart-Obertürkheim
END:VEVENT
BEGIN:VTIMEZONE
TZID:Europe/Berlin
X-LIC-LOCATION:Europe/Berlin
BEGIN:DAYLIGHT
DTSTART:20250330T030000
TZOFFSETFROM:+0100
TZOFFSETTO:+0200
TZNAME:CEST
END:DAYLIGHT
BEGIN:STANDARD
DTSTART:20251026T020000
TZOFFSETFROM:+0200
TZOFFSETTO:+0100
TZNAME:CET
END:STANDARD
END:VTIMEZONE
END:VCALENDAR