BEGIN:VCALENDAR
VERSION:2.0
PRODID:-//wp-events-plugin.com//7.2.3.1//EN
TZID:Europe/Berlin
X-WR-TIMEZONE:Europe/Berlin
BEGIN:VEVENT
UID:207@winestr.de
DTSTART;TZID=Europe/Berlin:20250118T150000
DTEND;TZID=Europe/Berlin:20250118T170000
DTSTAMP:20241216T180539Z
URL:https://www.winestr.de/events/gluehweinwanderung-weil-wein-by-70469r-f
 abian-rajtschan/
SUMMARY:Glühweinwanderung  "Weil Wein" by 70469R! Fabian Rajtschan
DESCRIPTION:Glühweinwanderung\n\n 	Samstag\, 18. Januar 2025\n 	15:00 17:0
 0\n 	Preis: 39 € p.P.\n\nWeil Wein by 70469R! Fabian Rajtschan - Vinothe
 k &amp\; Event Pforzheimer Straße 298 Stuttgart\, BW\, 70499\n\nZiehen Si
 e sich warm an und wandern Sie ganz entspannt durch unsere Weinberge\, um 
 mit ein paar Tässchen Glühwein die Woche ausklingen zu lassen. Dabei gib
 t es allerlei Wissenswertes zu erfahren. Bei unserem Stopp an der Weinberg
 hütte reichen wir Ihnen einen kleinen süssen Snack.\nAuf vorherigen Wuns
 ch können wir Ihnen alkoholfreien Punsch anbieten.\nLeistungen\n1 Tasse w
 eisser Glühwein\, 2 Tassen roter Glühwein\, kleiner süsser Snack\, wär
 mendes Feuer bei eisigen Temparaturen\, Wissenswertes über unser Weingut\
 , die Weine und unsere Arbeit\n\nBuchung über folgenden Link: https://www
 .70469r.de/termine/offene-weinprobe-zpdjj-ytwb7
ATTACH;FMTTYPE=image/jpeg:https://www.winestr.de/wp-content/uploads/240719
 _WeilWein_Logo_mit_Grissel_300ppi_Farbe_7-3.png
CATEGORIES:Partnerweingut Event,Wein Event
END:VEVENT
BEGIN:VTIMEZONE
TZID:Europe/Berlin
X-LIC-LOCATION:Europe/Berlin
BEGIN:STANDARD
DTSTART:20241027T020000
TZOFFSETFROM:+0200
TZOFFSETTO:+0100
TZNAME:CET
END:STANDARD
END:VTIMEZONE
END:VCALENDAR