BEGIN:VCALENDAR
VERSION:2.0
PRODID:-//wp-events-plugin.com//7.2.3.1//EN
TZID:Europe/Berlin
X-WR-TIMEZONE:Europe/Berlin
BEGIN:VEVENT
UID:220@winestr.de
DTSTART;TZID=Europe/Berlin:20250711T183000
DTEND;TZID=Europe/Berlin:20250711T223000
DTSTAMP:20241226T094430Z
URL:https://www.winestr.de/events/ebner-ebenauer-winzer-des-jahres-2022-da
 niels-weine-zu-gast-in-der-kostbar-schwaebisch-gmuend/
SUMMARY:Ebner-Ebenauer – Winzer des Jahres 2022 (Daniels Weine zu Gast in
  der Kostbar Schwäbisch Gmünd)
DESCRIPTION:Fr 11. Juli\, 18.30 Uhr\, 99 EUR inkl. Wein\, Wasser + 4-Gänge
 -Menü\nAnmeldung: Kostbar Schwäbisch Gmünd
ATTACH;FMTTYPE=image/jpeg:https://www.winestr.de/wp-content/uploads/202412
 26_101753.jpg
CATEGORIES:Wein Event,Wine&amp;Dine
END:VEVENT
BEGIN:VTIMEZONE
TZID:Europe/Berlin
X-LIC-LOCATION:Europe/Berlin
BEGIN:DAYLIGHT
DTSTART:20250330T030000
TZOFFSETFROM:+0100
TZOFFSETTO:+0200
TZNAME:CEST
END:DAYLIGHT
END:VTIMEZONE
END:VCALENDAR