BEGIN:VCALENDAR
VERSION:2.0
PRODID:-//wp-events-plugin.com//7.2.3.1//EN
TZID:Europe/Berlin
X-WR-TIMEZONE:Europe/Berlin
BEGIN:VEVENT
UID:244@winestr.de
DTSTART;TZID=Europe/Berlin:20250330T120000
DTEND;TZID=Europe/Berlin:20250330T180000
DTSTAMP:20250301T104335Z
URL:https://www.winestr.de/events/die-jungen-wilden-aus-dem-remstal-genuss
 -fuer-den-guten-zweck-in-der-jahnhalle-endersbach/
SUMMARY:DIE JUNGEN WILDEN AUS DEM REMSTAL - Genuss für den guten Zweck in 
 der Jahnhalle Endersbach
DESCRIPTION:Der Lions Club Remstal lädt herzlich zu einem besonderen Event
  ein!\n\nUnter dem Motto&nbsp\;„Genuss für den guten Zweck“&nbsp\;pr
 äsentieren&nbsp\;acht Spitzenweingüter&nbsp\;aus dem Remstal ihre edlen 
 Tropfen.\n\nAuch wir sind mit dabei und präsentieren unsere Weine für de
 n guten Zweck.\n\n🍷 Sonntag\, 30. März 2025\n🕛 12:00 – 18:00 Uhr\
 n📍 Jahnhalle Endersbach\n\nDer Lions Club Remstal lädt herzlich zu ein
 em besonderen Event ein! Unter dem Motto „Genuss für den guten Zweck“
  präsentieren acht Spitzenweingüter aus dem Remstal ihre edlen Tropfen. 
 Erleben Sie eine exquisite Weinverkostung mit den „Jungen Wilden aus dem
  Remstal“\, die für innovativen Weinbau und höchste Qualität stehen.\
 n\nMit dabei sind:\n🍇 Weingut Karl Haidle\n🍇 Weingut Jürgen Ellwang
 er\n🍇 Weingut Klopfer\n🍇 Weingut Sterneisen\n🍇 Weingut Knauß\n
 🍇 Weingut Leon Gold\n🍇 Weingut Idler\n🍇 Weingut Singer Bader\n\n
 🎤 Moderation: Petra Klein\nDurch das Programm führt die bekannte Radio
 - und TV-Moderatorin Petra Klein\, die mit Charme und Fachwissen für eine
  unterhaltsame und informative Veranstaltung sorgen wird.\n\n🎗 Der gute
  Zweck\nDer gesamte Erlös der Veranstaltung geht an „Der bunte Kreis Re
 ms-Murr“\, eine Organisation\, die Familien mit frühgeborenen\, chronis
 ch und schwerstkranken Kindern unterstützt.\n\n💛 Unterstützt &amp\; g
 efördert von:\n🔹 Lions Club International\n🔹 Christiane Eichenhofer
  Stiftung mit der Tour Ginkgo – Rollt für kranke Kinder\n\nGenießen Si
 e exzellente Weine und tun Sie gleichzeitig Gutes! Sichern Sie sich jetzt 
 Ihr Ticket und seien Sie dabei.\n\n&gt\;&gt\;&gt\;&gt\;&gt\;&gt\;&gt\;🌐
 Hier geht es direkt zum Online-Kartenverkauf&nbsp\;\n\n🎫&nbsp\;Kartenvo
 rverkauf auch bei\n\n 	Robl Moden -&nbsp\;&nbsp\;Beutelsbacher Straße 2\,
  71384 Weinstadt-Endersbach\n 	Edeka Reichert -&nbsp\;Kalkofenstraße 5\, 
 71384 Weinstadt-Endersbach\n 	und in jedem teilnehmenden Weingut\n\n📚
 ⬇️&nbsp\;Download der Broschüre\n\nWir freuen uns auf Sie! 🍷✨
ATTACH;FMTTYPE=image/jpeg:https://www.winestr.de/wp-content/uploads/Lions-
 Weinprobe-2025-Genuss-Guter-Zweck-1024x708-1.png
CATEGORIES:Partner Event,Wein-Tasting
END:VEVENT
BEGIN:VTIMEZONE
TZID:Europe/Berlin
X-LIC-LOCATION:Europe/Berlin
BEGIN:DAYLIGHT
DTSTART:20250330T030000
TZOFFSETFROM:+0100
TZOFFSETTO:+0200
TZNAME:CEST
END:DAYLIGHT
END:VTIMEZONE
END:VCALENDAR