BEGIN:VCALENDAR
VERSION:2.0
PRODID:-//wp-events-plugin.com//7.2.3.1//EN
TZID:Europe/Berlin
X-WR-TIMEZONE:Europe/Berlin
BEGIN:VEVENT
UID:118@winestr.de
DTSTART;TZID=Europe/Berlin:20240704T170000
DTEND;TZID=Europe/Berlin:20240707T230000
DTSTAMP:20240417T070505Z
URL:https://www.winestr.de/events/bergfest-des-weinguts-schwegler/
SUMMARY:Bergfest des Weinguts Schwegler
DESCRIPTION:\n\nBERGFEST 2024: 04.-07.07. UND 11.-14.07.2024\n\n\n\n\n\nVom
  04.-07.Juli sowie 11.-14. Juli heißt es wieder: Entspannt Wein genießen
 \, selber grillen und den Tag mit Freunden bei herrlicher Aussicht und Son
 nenuntergang ausklingen lassen.\n\nAb 17 Uhr sind wir wie in den letzten J
 ahren auf der Wiese am Schuppen zwischen Korb und Beinstein. Den genauen S
 tandort des Veranstaltungsgeländes findet ihr hier:\n\n\n\n&nbsp\;\n\nSta
 ndort Bergfest
END:VEVENT
BEGIN:VTIMEZONE
TZID:Europe/Berlin
X-LIC-LOCATION:Europe/Berlin
BEGIN:DAYLIGHT
DTSTART:20240331T030000
TZOFFSETFROM:+0100
TZOFFSETTO:+0200
TZNAME:CEST
END:DAYLIGHT
END:VTIMEZONE
END:VCALENDAR