BEGIN:VCALENDAR
VERSION:2.0
PRODID:-//wp-events-plugin.com//7.2.3.1//EN
TZID:Europe/Berlin
X-WR-TIMEZONE:Europe/Berlin
BEGIN:VEVENT
UID:213@winestr.de
DTSTART;TZID=Europe/Berlin:20250312T190000
DTEND;TZID=Europe/Berlin:20250312T230000
DTSTAMP:20241226T103421Z
URL:https://www.winestr.de/events/asien-im-remstal-1-weingut-klopfer/
SUMMARY:Asien im Remstal 1 (Weingut Klopfer)
DESCRIPTION:Mi 12. März\, 19.00 Uhr\, 125 EUR\, Wein\, Wasser + Menü\nAnm
 eldung: Daniel’s Weine
ATTACH;FMTTYPE=image/jpeg:https://www.winestr.de/wp-content/uploads/202412
 26_101753.jpg
CATEGORIES:Wein Event,Wine&amp;Dine
END:VEVENT
BEGIN:VTIMEZONE
TZID:Europe/Berlin
X-LIC-LOCATION:Europe/Berlin
BEGIN:STANDARD
DTSTART:20241027T020000
TZOFFSETFROM:+0200
TZOFFSETTO:+0100
TZNAME:CET
END:STANDARD
END:VTIMEZONE
END:VCALENDAR