BEGIN:VCALENDAR
VERSION:2.0
PRODID:-//wp-events-plugin.com//7.2.3.1//EN
TZID:Europe/Berlin
X-WR-TIMEZONE:Europe/Berlin
BEGIN:VEVENT
UID:260@winestr.de
DTSTART;TZID=Europe/Berlin:20251026T120000
DTEND;TZID=Europe/Berlin:20251026T170000
DTSTAMP:20251012T155327Z
URL:https://www.winestr.de/events/anstossen-auf-den-herbst-im-weingut-bern
 hard-ellwanger-2/
SUMMARY:"Anstoßen auf den Herbst!" im Weingut Bernhard Ellwanger
DESCRIPTION:Unglaublich\, gestern am 1. Oktober waren wir bereits mit der W
 einlese fertig! Wir sind glücklich und dankbar über tolle Qualitäten. V
 ielen Dank unserem großartigen Team und allen fleißigen Lesehelfern!\n\n
 Da haben wir uns gedacht\, was machen wir denn im Oktober\, den wir uns ei
 gentlich für die Weinlese freigehalten haben? Also feiern wir und freuen 
 uns wenn Ihr vorbei kommt zum "Anstoßen auf den Herbst!" Jeden Sonntag im
  Oktober von 12-17 Uhr bei uns im Hof. Start ist jetzt gleich am Sonntag\,
  5. Oktober\, passend zum Erntedank.
ATTACH;FMTTYPE=image/jpeg:https://www.winestr.de/wp-content/uploads/Logo-H
 olzwand-mit-Kelter.jpg
CATEGORIES:Partnerweingut Event,Wein Event,Wein-Tasting
END:VEVENT
BEGIN:VTIMEZONE
TZID:Europe/Berlin
X-LIC-LOCATION:Europe/Berlin
BEGIN:STANDARD
DTSTART:20251026T020000
TZOFFSETFROM:+0200
TZOFFSETTO:+0100
TZNAME:CET
END:STANDARD
END:VTIMEZONE
END:VCALENDAR