BEGIN:VCALENDAR
VERSION:2.0
PRODID:-//wp-events-plugin.com//7.2.3.1//EN
TZID:Europe/Berlin
X-WR-TIMEZONE:Europe/Berlin
BEGIN:VEVENT
UID:92@winestr.de
DTSTART;TZID=Europe/Berlin:20240425T180000
DTEND;TZID=Europe/Berlin:20240425T210000
DTSTAMP:20240206T111436Z
URL:https://www.winestr.de/events/afterwork-winetasting-nine-to-wine-in-ba
 cknang-4/
SUMMARY:Afterwork-Winetasting Nine to Wine in Backnang
DESCRIPTION:Die Vioneers Afterwork-Winetastings! \nUnter dem Titel "Nine to
  Wine" laden wir Dich herzlich ein zum monatlichen Weinevent nach Feierabe
 nd im Winespot Backnang (Blumenstr. 22/1\, Backnang).\nGenieße die 6 Wein
 e des Monats in entspannter Weinbar-Atmosphäre. Inklusive sind 6 Weine\, 
 Wasser\, kleine Snacks und viel Unterhaltung. Am 22. Februar geht es um 18
 :00 los.\n\nTickets auf vioneers.com für 35\,-€\nTickets an der Abendka
 sse für 40\,-€\n\nWir freuen uns auf Dich!\n\nTicket sichern
ATTACH;FMTTYPE=image/jpeg:https://www.winestr.de/wp-content/uploads/Screen
 shot-2023-08-01-at-20-07-42-Unser-Winespot-in-Backnang-1.png
CATEGORIES:Partner Event
END:VEVENT
BEGIN:VTIMEZONE
TZID:Europe/Berlin
X-LIC-LOCATION:Europe/Berlin
BEGIN:DAYLIGHT
DTSTART:20240331T030000
TZOFFSETFROM:+0100
TZOFFSETTO:+0200
TZNAME:CEST
END:DAYLIGHT
END:VTIMEZONE
END:VCALENDAR