BEGIN:VCALENDAR
VERSION:2.0
PRODID:-//wp-events-plugin.com//7.2.3.1//EN
TZID:Europe/Berlin
X-WR-TIMEZONE:Europe/Berlin
BEGIN:VEVENT
UID:224@winestr.de
DTSTART;TZID=Europe/Berlin:20250731T170000
DTEND;TZID=Europe/Berlin:20250731T220000
DTSTAMP:20241226T095948Z
URL:https://www.winestr.de/events/afterwork-am-winterbacher-remsufer-1-ter
 minweinverkostung-daniels-weine-winterbach/
SUMMARY:Afterwork am Winterbacher Remsufer (1. Termin)(Weinverkostung Danie
 ls Weine Winterbach)
DESCRIPTION:Do 31. Juli\, 17.00 Uhr\nEvent: Gleisdorfer Platz
ATTACH;FMTTYPE=image/jpeg:https://www.winestr.de/wp-content/uploads/202412
 26_101753.jpg
CATEGORIES:Wein Event
END:VEVENT
BEGIN:VTIMEZONE
TZID:Europe/Berlin
X-LIC-LOCATION:Europe/Berlin
BEGIN:DAYLIGHT
DTSTART:20250330T030000
TZOFFSETFROM:+0100
TZOFFSETTO:+0200
TZNAME:CEST
END:DAYLIGHT
END:VTIMEZONE
END:VCALENDAR