BEGIN:VCALENDAR
VERSION:2.0
PRODID:-//wp-events-plugin.com//7.2.3.1//EN
TZID:Europe/Berlin
X-WR-TIMEZONE:Europe/Berlin
BEGIN:VEVENT
UID:285@winestr.de
DTSTART;TZID=Europe/Berlin:20260502T160000
DTEND;TZID=Europe/Berlin:20260502T221500
DTSTAMP:20260124T151841Z
URL:https://www.winestr.de/events/4-esslinger-wein-tasting-esslingen-kann-
 wein-und-wie-die-erfolgsstory-geht-weiter-am-02-und-03-05-2025/
SUMMARY:4. Esslinger Wein-Tasting: Esslingen kann Wein – und wie! Die Erf
 olgsstory geht weiter am 02 . und 03.05.2025
DESCRIPTION:Eine Veranstaltung die sich etabliert hat\, das Esslinger Weint
 asting\, lockt auch im Mai wieder mit über 20 grandiosen Winzer aus Würt
 temberg\, Baden\, Pfalz\, Rheinhessen\, der Nahe und von der Mosel\, regio
 nale &amp\; überregionale Spitzenbetriebe\, Weine vom Gutswein bis zum Gr
 oßen Gewächs – und das Beste: Einmal Eintritt zahlen\, über 150 Weine
  &amp\; Sekte probieren. Kostenlos. Das Ganze findet statt in den histori
 schen Räumlichkeiten des Salemer Pfleghofs\, inmitten der Esslinger Innen
 stadt. In beeindruckendem Ambiente kann man sich hier durch das Angebot pr
 obieren\, Hintergründe und Insiderwissen direkt vom Winzer bekommen.\n\nW
 as euch erwartet:\n\n Spitzenweine vom Gutswein bis zum Großen Gewächs 
 in stilvollem Ambiente\n\n Unsere legendäre BUBBLES BAR – mit Premium-
 Winzersekten zur freien Verkostung\n\n Leckeres Essen &amp\; chilliger Ou
 tdoor-Bereich\n\n Lounge-Feeling &amp\; coole Hintergrundmusik\n\n After
 show-Party am Samstag\n\nMit dabei: die Tune Brothers – House\, Classics
  &amp\; Feel Good Vibes\nfür die lange Nacht.\n\n Wichtig:\n\n Es wird 
 auch 2026 nur EIN einziges Tasting geben\n\n Die begehrten Tickets sind a
 b sofort online – und limitiert!\n\nDie Nachfrage? Riesig.\n\nDas Erlebn
 is? Einzigartig.\n\nÖffnungszeiten\nSamstag 02.05.2026\n\n16.00 – 22.00
  Uhr Tasting – im Anschluss Aftershow Party\nSonntag 03.05.2026 11.00 
 – 17.00 Uhr Tasting\n\nZum Ticketshop – Hier klicken\n
ATTACH;FMTTYPE=image/jpeg:https://www.winestr.de/wp-content/uploads/Flyer-
 4.-Winestasting.jpg
CATEGORIES:Partner Event,Wein-Tasting
END:VEVENT
BEGIN:VTIMEZONE
TZID:Europe/Berlin
X-LIC-LOCATION:Europe/Berlin
BEGIN:DAYLIGHT
DTSTART:20260329T030000
TZOFFSETFROM:+0100
TZOFFSETTO:+0200
TZNAME:CEST
END:DAYLIGHT
END:VTIMEZONE
END:VCALENDAR